BEGIN:VCALENDAR
PRODID:-//SoulAndWolf//SilverStripe//EN
VERSION:2.0
BEGIN:VEVENT
DTSTART;TZID=Australia/Melbourne:20260429T130000
DTEND;TZID=Australia/Melbourne:20260429T133000
DESCRIPTION:https://www.woodards.com.au/property/1-1-murrumbeena-road-carnegie-3163-1892488/
SUMMARY:Inspection at 1/1 Murrumbeena Road
LOCATION:1/1 Murrumbeena Road, Carnegie, VIC 3163
URL:https://www.woodards.com.au/property/1-1-murrumbeena-road-carnegie-3163-1892488/
END:VEVENT
END:VCALENDAR