BEGIN:VCALENDAR
PRODID:-//SoulAndWolf//SilverStripe//EN
VERSION:2.0
BEGIN:VEVENT
DTSTART;TZID=Australia/Melbourne:20251108T110000
DTEND;TZID=Australia/Melbourne:20251108T130000
DESCRIPTION:https://www.woodards.com.au/property/1-13-voltri-street-cheltenham-3192-1817172/
SUMMARY:Auction at 1/13 Voltri Street
LOCATION:1/13 Voltri Street, Cheltenham, VIC 3192
URL:https://www.woodards.com.au/property/1-13-voltri-street-cheltenham-3192-1817172/
END:VEVENT
END:VCALENDAR