BEGIN:VCALENDAR
PRODID:-//SoulAndWolf//SilverStripe//EN
VERSION:2.0
BEGIN:VEVENT
DTSTART;TZID=Australia/Melbourne:20251115T110000
DTEND;TZID=Australia/Melbourne:20251115T130000
DESCRIPTION:https://www.woodards.com.au/property/1-17-henderson-street-reservoir-3073-1820500/
SUMMARY:Auction at 1/17 Henderson Street
LOCATION:1/17 Henderson Street, Reservoir, VIC 3073
URL:https://www.woodards.com.au/property/1-17-henderson-street-reservoir-3073-1820500/
END:VEVENT
END:VCALENDAR