BEGIN:VCALENDAR
PRODID:-//SoulAndWolf//SilverStripe//EN
VERSION:2.0
BEGIN:VEVENT
DTSTART;TZID=Australia/Melbourne:20260428T160000
DTEND;TZID=Australia/Melbourne:20260428T161000
DESCRIPTION:https://www.woodards.com.au/property/1-19-lodge-road-camberwell-3124-1886270/
SUMMARY:Inspection at 1/19 Lodge Road
LOCATION:1/19 Lodge Road, Camberwell, VIC 3124
URL:https://www.woodards.com.au/property/1-19-lodge-road-camberwell-3124-1886270/
END:VEVENT
END:VCALENDAR