BEGIN:VCALENDAR
PRODID:-//SoulAndWolf//SilverStripe//EN
VERSION:2.0
BEGIN:VEVENT
DTSTART;TZID=Australia/Melbourne:20250715T180000
DTEND;TZID=Australia/Melbourne:20250715T200000
DESCRIPTION:https://www.woodards.com.au/property/1-198-spring-street-reservoir-3073-1726373/
SUMMARY:Auction at 1/198 Spring Street
LOCATION:1/198 Spring Street, Reservoir, VIC 3073
URL:https://www.woodards.com.au/property/1-198-spring-street-reservoir-3073-1726373/
END:VEVENT
END:VCALENDAR