BEGIN:VCALENDAR
PRODID:-//SoulAndWolf//SilverStripe//EN
VERSION:2.0
BEGIN:VEVENT
DTSTART;TZID=Australia/Melbourne:20260423T150000
DTEND;TZID=Australia/Melbourne:20260423T153000
DESCRIPTION:https://www.woodards.com.au/property/1-2-roger-street-doncaster-east-3109-1889922/
SUMMARY:Inspection at 1/2 Roger Street
LOCATION:1/2 Roger Street, Doncaster East, VIC 3109
URL:https://www.woodards.com.au/property/1-2-roger-street-doncaster-east-3109-1889922/
END:VEVENT
END:VCALENDAR