BEGIN:VCALENDAR
PRODID:-//SoulAndWolf//SilverStripe//EN
VERSION:2.0
BEGIN:VEVENT
DTSTART;TZID=Australia/Melbourne:20260429T124500
DTEND;TZID=Australia/Melbourne:20260429T131500
DESCRIPTION:https://www.woodards.com.au/property/1-269-grange-road-ormond-3204-1868784/
SUMMARY:Inspection at 1/269 Grange Road
LOCATION:1/269 Grange Road, Ormond, VIC 3204
URL:https://www.woodards.com.au/property/1-269-grange-road-ormond-3204-1868784/
END:VEVENT
END:VCALENDAR