BEGIN:VCALENDAR
PRODID:-//SoulAndWolf//SilverStripe//EN
VERSION:2.0
BEGIN:VEVENT
DTSTART;TZID=Australia/Melbourne:20251122T133000
DTEND;TZID=Australia/Melbourne:20251122T153000
DESCRIPTION:https://www.woodards.com.au/property/1-28-william-street-oakleigh-3166-1820712/
SUMMARY:Auction at 1/28 William Street
LOCATION:1/28 William Street, Oakleigh, VIC 3166
URL:https://www.woodards.com.au/property/1-28-william-street-oakleigh-3166-1820712/
END:VEVENT
END:VCALENDAR