BEGIN:VCALENDAR
PRODID:-//SoulAndWolf//SilverStripe//EN
VERSION:2.0
BEGIN:VEVENT
DTSTART;TZID=Australia/Melbourne:20250719T110000
DTEND;TZID=Australia/Melbourne:20250719T130000
DESCRIPTION:https://www.woodards.com.au/property/1-289-upper-heidelberg-road-ivanhoe-3079-1726708/
SUMMARY:Auction at 1/289 Upper Heidelberg Road
LOCATION:1/289 Upper Heidelberg Road, Ivanhoe, VIC 3079
URL:https://www.woodards.com.au/property/1-289-upper-heidelberg-road-ivanhoe-3079-1726708/
END:VEVENT
END:VCALENDAR