BEGIN:VCALENDAR
PRODID:-//SoulAndWolf//SilverStripe//EN
VERSION:2.0
BEGIN:VEVENT
DTSTART;TZID=Australia/Melbourne:20260328T100000
DTEND;TZID=Australia/Melbourne:20260328T120000
DESCRIPTION:https://www.woodards.com.au/property/1-34-ayr-street-reservoir-3073-1874806/
SUMMARY:Auction at 1/34 Ayr Street
LOCATION:1/34 Ayr Street, Reservoir, VIC 3073
URL:https://www.woodards.com.au/property/1-34-ayr-street-reservoir-3073-1874806/
END:VEVENT
END:VCALENDAR