BEGIN:VCALENDAR
PRODID:-//SoulAndWolf//SilverStripe//EN
VERSION:2.0
BEGIN:VEVENT
DTSTART;TZID=Australia/Melbourne:20260516T113000
DTEND;TZID=Australia/Melbourne:20260516T133000
DESCRIPTION:https://www.woodards.com.au/property/1-36-patrick-street-oakleigh-east-3166-1891344/
SUMMARY:Auction at 1/36 Patrick Street
LOCATION:1/36 Patrick Street, Oakleigh East, VIC 3166
URL:https://www.woodards.com.au/property/1-36-patrick-street-oakleigh-east-3166-1891344/
END:VEVENT
END:VCALENDAR