BEGIN:VCALENDAR
PRODID:-//SoulAndWolf//SilverStripe//EN
VERSION:2.0
BEGIN:VEVENT
DTSTART;TZID=Australia/Melbourne:20260427T163000
DTEND;TZID=Australia/Melbourne:20260427T164500
DESCRIPTION:https://www.woodards.com.au/property/1-37-orrong-road-elsternwick-3185-1892300/
SUMMARY:Inspection at 1/37 Orrong Road
LOCATION:1/37 Orrong Road, Elsternwick, VIC 3185
URL:https://www.woodards.com.au/property/1-37-orrong-road-elsternwick-3185-1892300/
END:VEVENT
END:VCALENDAR