BEGIN:VCALENDAR
PRODID:-//SoulAndWolf//SilverStripe//EN
VERSION:2.0
BEGIN:VEVENT
DTSTART;TZID=Australia/Melbourne:20260326T180000
DTEND;TZID=Australia/Melbourne:20260326T200000
DESCRIPTION:https://www.woodards.com.au/property/1-4-normanby-street-hughesdale-3166-1874217/
SUMMARY:Auction at 1/4 Normanby Street
LOCATION:1/4 Normanby Street, Hughesdale, VIC 3166
URL:https://www.woodards.com.au/property/1-4-normanby-street-hughesdale-3166-1874217/
END:VEVENT
END:VCALENDAR