BEGIN:VCALENDAR
PRODID:-//SoulAndWolf//SilverStripe//EN
VERSION:2.0
BEGIN:VEVENT
DTSTART;TZID=Australia/Melbourne:20260221T140000
DTEND;TZID=Australia/Melbourne:20260221T160000
DESCRIPTION:https://www.woodards.com.au/property/1-42-clonaig-street-brighton-east-3187-1853869/
SUMMARY:Auction at 1/42 Clonaig Street
LOCATION:1/42 Clonaig Street, Brighton East, VIC 3187
URL:https://www.woodards.com.au/property/1-42-clonaig-street-brighton-east-3187-1853869/
END:VEVENT
END:VCALENDAR