BEGIN:VCALENDAR
PRODID:-//SoulAndWolf//SilverStripe//EN
VERSION:2.0
BEGIN:VEVENT
DTSTART;TZID=Australia/Melbourne:20250823T123000
DTEND;TZID=Australia/Melbourne:20250823T143000
DESCRIPTION:https://www.woodards.com.au/property/1-54-newton-street-reservoir-3073-1746762/
SUMMARY:Auction at 1/54 Newton Street
LOCATION:1/54 Newton Street, Reservoir, VIC 3073
URL:https://www.woodards.com.au/property/1-54-newton-street-reservoir-3073-1746762/
END:VEVENT
END:VCALENDAR