BEGIN:VCALENDAR
PRODID:-//SoulAndWolf//SilverStripe//EN
VERSION:2.0
BEGIN:VEVENT
DTSTART;TZID=Australia/Melbourne:20260425T130000
DTEND;TZID=Australia/Melbourne:20260425T133000
DESCRIPTION:https://www.woodards.com.au/property/1-61-mount-view-parade-croydon-3136-1873311/
SUMMARY:Inspection at 1/61 Mount View Parade
LOCATION:1/61 Mount View Parade, Croydon, VIC 3136
URL:https://www.woodards.com.au/property/1-61-mount-view-parade-croydon-3136-1873311/
END:VEVENT
END:VCALENDAR