BEGIN:VCALENDAR
PRODID:-//SoulAndWolf//SilverStripe//EN
VERSION:2.0
BEGIN:VEVENT
DTSTART;TZID=Australia/Melbourne:20260321T150000
DTEND;TZID=Australia/Melbourne:20260321T170000
DESCRIPTION:https://www.woodards.com.au/property/1-63-talbot-avenue-balwyn-3103-1865179/
SUMMARY:Auction at 1/63 Talbot Avenue
LOCATION:1/63 Talbot Avenue, Balwyn, VIC 3103
URL:https://www.woodards.com.au/property/1-63-talbot-avenue-balwyn-3103-1865179/
END:VEVENT
END:VCALENDAR