BEGIN:VCALENDAR
PRODID:-//SoulAndWolf//SilverStripe//EN
VERSION:2.0
BEGIN:VEVENT
DTSTART;TZID=Australia/Melbourne:20260429T170000
DTEND;TZID=Australia/Melbourne:20260429T171000
DESCRIPTION:https://www.woodards.com.au/property/1-66-medway-st-box-hill-north-3129-1890992/
SUMMARY:Inspection at 1/66 Medway St
LOCATION:1/66 Medway St, Box Hill North, VIC 3129
URL:https://www.woodards.com.au/property/1-66-medway-st-box-hill-north-3129-1890992/
END:VEVENT
END:VCALENDAR