BEGIN:VCALENDAR
PRODID:-//SoulAndWolf//SilverStripe//EN
VERSION:2.0
BEGIN:VEVENT
DTSTART;TZID=Australia/Melbourne:20260516T123000
DTEND;TZID=Australia/Melbourne:20260516T143000
DESCRIPTION:https://www.woodards.com.au/property/1-67-69-barrington-street-bentleigh-east-3165-1891365/
SUMMARY:Auction at 1/67-69 Barrington Street
LOCATION:1/67-69 Barrington Street, Bentleigh East, VIC 3165
URL:https://www.woodards.com.au/property/1-67-69-barrington-street-bentleigh-east-3165-1891365/
END:VEVENT
END:VCALENDAR