BEGIN:VCALENDAR
PRODID:-//SoulAndWolf//SilverStripe//EN
VERSION:2.0
BEGIN:VEVENT
DTSTART;TZID=Australia/Melbourne:20260430T110000
DTEND;TZID=Australia/Melbourne:20260430T113000
DESCRIPTION:https://www.woodards.com.au/property/1-7-nestor-grove-blackburn-north-3130-1885253/
SUMMARY:Inspection at 1/7 Nestor Grove
LOCATION:1/7 Nestor Grove, Blackburn North, VIC 3130
URL:https://www.woodards.com.au/property/1-7-nestor-grove-blackburn-north-3130-1885253/
END:VEVENT
END:VCALENDAR