BEGIN:VCALENDAR
PRODID:-//SoulAndWolf//SilverStripe//EN
VERSION:2.0
BEGIN:VEVENT
DTSTART;TZID=Australia/Melbourne:20260425T130000
DTEND;TZID=Australia/Melbourne:20260425T133000
DESCRIPTION:https://www.woodards.com.au/property/1-827-park-street-brunswick-3056-1890178/
SUMMARY:Inspection at 1/827 Park Street
LOCATION:1/827 Park Street, Brunswick, VIC 3056
URL:https://www.woodards.com.au/property/1-827-park-street-brunswick-3056-1890178/
END:VEVENT
END:VCALENDAR