BEGIN:VCALENDAR
PRODID:-//SoulAndWolf//SilverStripe//EN
VERSION:2.0
BEGIN:VEVENT
DTSTART;TZID=Australia/Melbourne:20251213T123000
DTEND;TZID=Australia/Melbourne:20251213T143000
DESCRIPTION:https://www.woodards.com.au/property/1-9-maxwell-street-lalor-3075-1833114/
SUMMARY:Auction at 1/9 Maxwell Street
LOCATION:1/9 Maxwell Street, Lalor, VIC 3075
URL:https://www.woodards.com.au/property/1-9-maxwell-street-lalor-3075-1833114/
END:VEVENT
END:VCALENDAR