BEGIN:VCALENDAR
PRODID:-//SoulAndWolf//SilverStripe//EN
VERSION:2.0
BEGIN:VEVENT
DTSTART;TZID=Australia/Melbourne:20240615T153000
DTEND;TZID=Australia/Melbourne:20240615T173000
DESCRIPTION:https://www.woodards.com.au/property/1-988-mountain-highway-boronia-3155-1522949/
SUMMARY:Auction at 1/988 Mountain Highway
LOCATION:1/988 Mountain Highway, Boronia, VIC 3155
URL:https://www.woodards.com.au/property/1-988-mountain-highway-boronia-3155-1522949/
END:VEVENT
END:VCALENDAR