BEGIN:VCALENDAR
PRODID:-//SoulAndWolf//SilverStripe//EN
VERSION:2.0
BEGIN:VEVENT
DTSTART;TZID=Australia/Melbourne:20251122T123000
DTEND;TZID=Australia/Melbourne:20251122T143000
DESCRIPTION:https://www.woodards.com.au/property/1-devon-avenue-keilor-east-3033-1821986/
SUMMARY:Auction at 1 Devon Avenue
LOCATION:1 Devon Avenue, Keilor East, VIC 3033
URL:https://www.woodards.com.au/property/1-devon-avenue-keilor-east-3033-1821986/
END:VEVENT
END:VCALENDAR