BEGIN:VCALENDAR
PRODID:-//SoulAndWolf//SilverStripe//EN
VERSION:2.0
BEGIN:VEVENT
DTSTART;TZID=Australia/Melbourne:20260214T103000
DTEND;TZID=Australia/Melbourne:20260214T123000
DESCRIPTION:https://www.woodards.com.au/property/1-loreen-street-oakleigh-south-3167-1848516/
SUMMARY:Auction at 1 Loreen Street
LOCATION:1 Loreen Street, Oakleigh South, VIC 3167
URL:https://www.woodards.com.au/property/1-loreen-street-oakleigh-south-3167-1848516/
END:VEVENT
END:VCALENDAR