BEGIN:VCALENDAR
PRODID:-//SoulAndWolf//SilverStripe//EN
VERSION:2.0
BEGIN:VEVENT
DTSTART;TZID=Australia/Melbourne:20260321T120000
DTEND;TZID=Australia/Melbourne:20260321T140000
DESCRIPTION:https://www.woodards.com.au/property/1-manooka-street-burwood-east-3151-1864368/
SUMMARY:Auction at 1 Manooka Street
LOCATION:1 Manooka Street, Burwood East, VIC 3151
URL:https://www.woodards.com.au/property/1-manooka-street-burwood-east-3151-1864368/
END:VEVENT
END:VCALENDAR