BEGIN:VCALENDAR
PRODID:-//SoulAndWolf//SilverStripe//EN
VERSION:2.0
BEGIN:VEVENT
DTSTART;TZID=Australia/Melbourne:20260425T140000
DTEND;TZID=Australia/Melbourne:20260425T143000
DESCRIPTION:https://www.woodards.com.au/property/1-rose-court-thomastown-3074-1886281/
SUMMARY:Inspection at 1 Rose Court
LOCATION:1 Rose Court, Thomastown, VIC 3074
URL:https://www.woodards.com.au/property/1-rose-court-thomastown-3074-1886281/
END:VEVENT
END:VCALENDAR