BEGIN:VCALENDAR
PRODID:-//SoulAndWolf//SilverStripe//EN
VERSION:2.0
BEGIN:VEVENT
DTSTART;TZID=Australia/Melbourne:20260301T110000
DTEND;TZID=Australia/Melbourne:20260301T130000
DESCRIPTION:https://www.woodards.com.au/property/1-wilgra-crescent-caulfield-3162-1857159/
SUMMARY:Auction at 1 Wilgra Crescent
LOCATION:1 Wilgra Crescent, Caulfield, VIC 3162
URL:https://www.woodards.com.au/property/1-wilgra-crescent-caulfield-3162-1857159/
END:VEVENT
END:VCALENDAR