BEGIN:VCALENDAR
PRODID:-//SoulAndWolf//SilverStripe//EN
VERSION:2.0
BEGIN:VEVENT
DTSTART;TZID=Australia/Melbourne:20251018T110000
DTEND;TZID=Australia/Melbourne:20251018T130000
DESCRIPTION:https://www.woodards.com.au/property/10-481-kooyong-road-elsternwick-3185-1796551/
SUMMARY:Auction at 10/481 Kooyong Road
LOCATION:10/481 Kooyong Road, Elsternwick, VIC 3185
URL:https://www.woodards.com.au/property/10-481-kooyong-road-elsternwick-3185-1796551/
END:VEVENT
END:VCALENDAR