BEGIN:VCALENDAR
PRODID:-//SoulAndWolf//SilverStripe//EN
VERSION:2.0
BEGIN:VEVENT
DTSTART;TZID=Australia/Melbourne:20260307T123000
DTEND;TZID=Australia/Melbourne:20260307T143000
DESCRIPTION:https://www.woodards.com.au/property/10-75-kingsville-street-kingsville-3012-1859427/
SUMMARY:Auction at 10/75 Kingsville Street
LOCATION:10/75 Kingsville Street, Kingsville, VIC 3012
URL:https://www.woodards.com.au/property/10-75-kingsville-street-kingsville-3012-1859427/
END:VEVENT
END:VCALENDAR