BEGIN:VCALENDAR
PRODID:-//SoulAndWolf//SilverStripe//EN
VERSION:2.0
BEGIN:VEVENT
DTSTART;TZID=Australia/Melbourne:20240824T110000
DTEND;TZID=Australia/Melbourne:20240824T130000
DESCRIPTION:https://www.woodards.com.au/property/10-keats-avenue-kingsbury-3083-1557692/
SUMMARY:Auction at 10 Keats Avenue
LOCATION:10 Keats Avenue, Kingsbury, VIC 3083
URL:https://www.woodards.com.au/property/10-keats-avenue-kingsbury-3083-1557692/
END:VEVENT
END:VCALENDAR