BEGIN:VCALENDAR
PRODID:-//SoulAndWolf//SilverStripe//EN
VERSION:2.0
BEGIN:VEVENT
DTSTART;TZID=Australia/Melbourne:20251206T113000
DTEND;TZID=Australia/Melbourne:20251206T133000
DESCRIPTION:https://www.woodards.com.au/property/10-locksley-avenue-reservoir-3073-1830086/
SUMMARY:Auction at 10 Locksley Avenue
LOCATION:10 Locksley Avenue, Reservoir, VIC 3073
URL:https://www.woodards.com.au/property/10-locksley-avenue-reservoir-3073-1830086/
END:VEVENT
END:VCALENDAR