BEGIN:VCALENDAR
PRODID:-//SoulAndWolf//SilverStripe//EN
VERSION:2.0
BEGIN:VEVENT
DTSTART;TZID=Australia/Melbourne:20251129T143000
DTEND;TZID=Australia/Melbourne:20251129T163000
DESCRIPTION:https://www.woodards.com.au/property/10-medway-road-keilor-east-3033-1825093/
SUMMARY:Auction at 10 Medway Road
LOCATION:10 Medway Road, Keilor East, VIC 3033
URL:https://www.woodards.com.au/property/10-medway-road-keilor-east-3033-1825093/
END:VEVENT
END:VCALENDAR