BEGIN:VCALENDAR
PRODID:-//SoulAndWolf//SilverStripe//EN
VERSION:2.0
BEGIN:VEVENT
DTSTART;TZID=Australia/Melbourne:20250823T120000
DTEND;TZID=Australia/Melbourne:20250823T140000
DESCRIPTION:https://www.woodards.com.au/property/102-gordon-grove-south-yarra-3141-1736118/
SUMMARY:Auction at 10/2 Gordon Grove
LOCATION:10/2 Gordon Grove, South Yarra, VIC 3141
URL:https://www.woodards.com.au/property/102-gordon-grove-south-yarra-3141-1736118/
END:VEVENT
END:VCALENDAR