BEGIN:VCALENDAR
PRODID:-//SoulAndWolf//SilverStripe//EN
VERSION:2.0
BEGIN:VEVENT
DTSTART;TZID=Australia/Melbourne:20250621T140000
DTEND;TZID=Australia/Melbourne:20250621T160000
DESCRIPTION:https://www.woodards.com.au/property/102a-59-johnson-street-reservoir-3073-1717106/
SUMMARY:Auction at 102a/59 Johnson Street
LOCATION:102a/59 Johnson Street, Reservoir, VIC 3073
URL:https://www.woodards.com.au/property/102a-59-johnson-street-reservoir-3073-1717106/
END:VEVENT
END:VCALENDAR