BEGIN:VCALENDAR
PRODID:-//SoulAndWolf//SilverStripe//EN
VERSION:2.0
BEGIN:VEVENT
DTSTART;TZID=Australia/Melbourne:20251213T140000
DTEND;TZID=Australia/Melbourne:20251213T160000
DESCRIPTION:https://www.woodards.com.au/property/103-the-grange-templestowe-3106-1833123/
SUMMARY:Auction at 103 The Grange
LOCATION:103 The Grange, Templestowe, VIC 3106
URL:https://www.woodards.com.au/property/103-the-grange-templestowe-3106-1833123/
END:VEVENT
END:VCALENDAR