BEGIN:VCALENDAR
PRODID:-//SoulAndWolf//SilverStripe//EN
VERSION:2.0
BEGIN:VEVENT
DTSTART;TZID=Australia/Melbourne:20260429T120000
DTEND;TZID=Australia/Melbourne:20260429T123000
DESCRIPTION:https://www.woodards.com.au/property/104a-marlborough-street-bentleigh-3204-1892611/
SUMMARY:Inspection at 104A Marlborough Street
LOCATION:104A Marlborough Street, Bentleigh, VIC 3204
URL:https://www.woodards.com.au/property/104a-marlborough-street-bentleigh-3204-1892611/
END:VEVENT
END:VCALENDAR