BEGIN:VCALENDAR
PRODID:-//SoulAndWolf//SilverStripe//EN
VERSION:2.0
BEGIN:VEVENT
DTSTART;TZID=Australia/Melbourne:20260429T160000
DTEND;TZID=Australia/Melbourne:20260429T163000
DESCRIPTION:https://www.woodards.com.au/property/105-66-bent-street-mckinnon-3204-1889687/
SUMMARY:Inspection at 105/66 Bent Street
LOCATION:105/66 Bent Street, Mckinnon, VIC 3204
URL:https://www.woodards.com.au/property/105-66-bent-street-mckinnon-3204-1889687/
END:VEVENT
END:VCALENDAR