BEGIN:VCALENDAR
PRODID:-//SoulAndWolf//SilverStripe//EN
VERSION:2.0
BEGIN:VEVENT
DTSTART;TZID=Australia/Melbourne:20260429T163000
DTEND;TZID=Australia/Melbourne:20260429T164500
DESCRIPTION:https://www.woodards.com.au/property/107-370-372-mitcham-road-mitcham-3132-1890818/
SUMMARY:Inspection at 107/370-372 Mitcham Road
LOCATION:107/370-372 Mitcham Road, Mitcham, VIC 3132
URL:https://www.woodards.com.au/property/107-370-372-mitcham-road-mitcham-3132-1890818/
END:VEVENT
END:VCALENDAR