BEGIN:VCALENDAR
PRODID:-//SoulAndWolf//SilverStripe//EN
VERSION:2.0
BEGIN:VEVENT
DTSTART;TZID=Australia/Melbourne:20260425T164000
DTEND;TZID=Australia/Melbourne:20260425T165500
DESCRIPTION:https://www.woodards.com.au/property/108-7-brighton-road-st-kilda-3182-1891555/
SUMMARY:Inspection at 108/7 Brighton Road
LOCATION:108/7 Brighton Road, St Kilda, VIC 3182
URL:https://www.woodards.com.au/property/108-7-brighton-road-st-kilda-3182-1891555/
END:VEVENT
END:VCALENDAR