BEGIN:VCALENDAR
PRODID:-//SoulAndWolf//SilverStripe//EN
VERSION:2.0
BEGIN:VEVENT
DTSTART;TZID=Australia/Melbourne:20250308T120000
DTEND;TZID=Australia/Melbourne:20250308T140000
DESCRIPTION:https://www.woodards.com.au/property/11-dermot-street-preston-3072-1639619/
SUMMARY:Auction at 11 Dermot Street
LOCATION:11 Dermot Street, Preston, VIC 3072
URL:https://www.woodards.com.au/property/11-dermot-street-preston-3072-1639619/
END:VEVENT
END:VCALENDAR