BEGIN:VCALENDAR
PRODID:-//SoulAndWolf//SilverStripe//EN
VERSION:2.0
BEGIN:VEVENT
DTSTART;TZID=Australia/Melbourne:20260207T120000
DTEND;TZID=Australia/Melbourne:20260207T140000
DESCRIPTION:https://www.woodards.com.au/property/11-derry-street-bentleigh-east-3165-1848412/
SUMMARY:Auction at 11 Derry Street
LOCATION:11 Derry Street, Bentleigh East, VIC 3165
URL:https://www.woodards.com.au/property/11-derry-street-bentleigh-east-3165-1848412/
END:VEVENT
END:VCALENDAR