BEGIN:VCALENDAR
PRODID:-//SoulAndWolf//SilverStripe//EN
VERSION:2.0
BEGIN:VEVENT
DTSTART;TZID=Australia/Melbourne:20250531T110000
DTEND;TZID=Australia/Melbourne:20250531T130000
DESCRIPTION:https://www.woodards.com.au/property/11-ruthven-close-hillside-3037-1685840/
SUMMARY:Auction at 11 Ruthven Close
LOCATION:11 Ruthven Close, Hillside, VIC 3037
URL:https://www.woodards.com.au/property/11-ruthven-close-hillside-3037-1685840/
END:VEVENT
END:VCALENDAR