BEGIN:VCALENDAR
PRODID:-//SoulAndWolf//SilverStripe//EN
VERSION:2.0
BEGIN:VEVENT
DTSTART;TZID=Australia/Melbourne:20250913T110000
DTEND;TZID=Australia/Melbourne:20250913T130000
DESCRIPTION:https://www.woodards.com.au/property/11-snow-street-keilor-park-3042-1766200/
SUMMARY:Auction at 11 Snow Street
LOCATION:11 Snow Street, Keilor Park, VIC 3042
URL:https://www.woodards.com.au/property/11-snow-street-keilor-park-3042-1766200/
END:VEVENT
END:VCALENDAR