BEGIN:VCALENDAR
PRODID:-//SoulAndWolf//SilverStripe//EN
VERSION:2.0
BEGIN:VEVENT
DTSTART;TZID=Australia/Melbourne:20260425T150000
DTEND;TZID=Australia/Melbourne:20260425T153000
DESCRIPTION:https://www.woodards.com.au/property/111-15-bond-street-caulfield-north-3161-1888323/
SUMMARY:Inspection at 111/15 Bond Street
LOCATION:111/15 Bond Street, Caulfield North, VIC 3161
URL:https://www.woodards.com.au/property/111-15-bond-street-caulfield-north-3161-1888323/
END:VEVENT
END:VCALENDAR