BEGIN:VCALENDAR
PRODID:-//SoulAndWolf//SilverStripe//EN
VERSION:2.0
BEGIN:VEVENT
DTSTART;TZID=Australia/Melbourne:20260428T120000
DTEND;TZID=Australia/Melbourne:20260428T121500
DESCRIPTION:https://www.woodards.com.au/property/112-cobden-street-south-melbourne-3205-1892460/
SUMMARY:Inspection at 112 Cobden Street
LOCATION:112 Cobden Street, South Melbourne, VIC 3205
URL:https://www.woodards.com.au/property/112-cobden-street-south-melbourne-3205-1892460/
END:VEVENT
END:VCALENDAR