BEGIN:VCALENDAR
PRODID:-//SoulAndWolf//SilverStripe//EN
VERSION:2.0
BEGIN:VEVENT
DTSTART;TZID=Australia/Melbourne:20240713T140000
DTEND;TZID=Australia/Melbourne:20240713T160000
DESCRIPTION:https://www.woodards.com.au/property/113-chapel-road-moorabbin-3189-1538165/
SUMMARY:Auction at 113 Chapel Road
LOCATION:113 Chapel Road, Moorabbin, VIC 3189
URL:https://www.woodards.com.au/property/113-chapel-road-moorabbin-3189-1538165/
END:VEVENT
END:VCALENDAR