BEGIN:VCALENDAR
PRODID:-//SoulAndWolf//SilverStripe//EN
VERSION:2.0
BEGIN:VEVENT
DTSTART;TZID=Australia/Melbourne:20260425T141500
DTEND;TZID=Australia/Melbourne:20260425T144500
DESCRIPTION:https://www.woodards.com.au/property/1169-darling-street-south-yarra-3141-1847599/
SUMMARY:Inspection at 116/9 Darling Street
LOCATION:116/9 Darling Street, South Yarra, VIC 3141
URL:https://www.woodards.com.au/property/1169-darling-street-south-yarra-3141-1847599/
END:VEVENT
END:VCALENDAR