BEGIN:VCALENDAR
PRODID:-//SoulAndWolf//SilverStripe//EN
VERSION:2.0
BEGIN:VEVENT
DTSTART;TZID=Australia/Melbourne:20250621T110000
DTEND;TZID=Australia/Melbourne:20250621T130000
DESCRIPTION:https://www.woodards.com.au/property/11a-army-avenue-reservoir-3073-1704099/
SUMMARY:Auction at 11A Army Avenue
LOCATION:11A Army Avenue, Reservoir, VIC 3073
URL:https://www.woodards.com.au/property/11a-army-avenue-reservoir-3073-1704099/
END:VEVENT
END:VCALENDAR