BEGIN:VCALENDAR
PRODID:-//SoulAndWolf//SilverStripe//EN
VERSION:2.0
BEGIN:VEVENT
DTSTART;TZID=Australia/Melbourne:20260214T123000
DTEND;TZID=Australia/Melbourne:20260214T143000
DESCRIPTION:https://www.woodards.com.au/property/12-121-grange-boulevard-bundoora-3083-1851516/
SUMMARY:Auction at 12/121 Grange Boulevard
LOCATION:12/121 Grange Boulevard, Bundoora, VIC 3083
URL:https://www.woodards.com.au/property/12-121-grange-boulevard-bundoora-3083-1851516/
END:VEVENT
END:VCALENDAR